Workbook
Name ＯＰ: #REF!
Name キー: #REF!
Name シート１Ａ: #REF!
Name シート１Ｂ: #REF!
Name シート２Ａ: #REF!
Name シート２Ｂ: #REF!
Name シート３Ａ: #REF!
Name シート３Ｂ: #REF!
Name シート４Ａ: #REF!
Name シート４Ｂ: #REF!
Name その他１: #REF!
Name その他２: #REF!
Name タイル: #REF!
Name ためます: #REF!
Name タワー１: #REF!
Name デザイン: #REF!
Name ビデオ: #REF!
Name フェンス: #REF!
Name フランス: #REF!
Name マーシャル: #REF!
Name ワールド: #REF!
Name 安全費: #REF!
Name 引込費: #REF!
Name 延べ: #REF!
Name 下小屋Ａ: #REF!
Name 下小屋Ｂ: #REF!
Name 下水１: #REF!
Name 下水２: #REF!
Name 下請Ａ: #REF!
Name 下請Ｂ: #REF!
Name 仮囲１Ａ: #REF!
Name 仮囲１Ｂ: #REF!
Name 仮囲２Ａ: #REF!
Name 仮囲２Ｂ: #REF!
Name 仮囲３Ａ: #REF!
Name 仮囲３Ｂ: #REF!
Name 仮囲４Ａ: #REF!
Name 仮囲４Ｂ: #REF!
Name 仮囲５Ａ: #REF!
Name 仮囲５Ｂ: #REF!
Name 仮設物費: #REF!
Name 監督１Ａ: #REF!
Name 監督１Ｂ: #REF!
Name 監督２Ａ: #REF!
Name 監督２Ｂ: #REF!
Name 機械器具費: #REF!
Name 記録図面: #REF!
Name 給水: #REF!
Name 契約種別: [1]ﾂｰﾙ!$C$139:$C$140
Name 警備員: #REF!
Name 警備員Ａ: #REF!
Name 警備員Ｂ: #REF!
Name 建築: #REF!
Name 建物: #REF!
Name 工期Ａ: #REF!
Name 工期Ｂ: #REF!
Name 工事: #REF!
Name 工事種別: #REF!
Name 杭: #REF!
Name 杭その他: #REF!

Sheet 見積書表紙
K1: 様式４
C3: 旧東豊中社宅解体工事
C5: 工事費見積書
H8: ２０２６年○○月○○日
B12: 日本郵便株式会社 宛て
F16: (住 所）
F17: (商号又は名称）
F18: (代表者氏名） | J18: ㊞
D23: 金 | E23: =G25+G26 -> 0 | G23: 円
E25: 内訳 | F25: 工事費 | G25: =総括!G30 -> 0
F26: 消費税相当額 | G26: =総括!G32 -> 0
F28: 内訳は、別紙のとおり

Sheet 総括
H2: 様式４
B3: 工事費見積書 （例）
B4: 会社名／
B5: 工事名／旧東豊中社宅解体工事
B6: 細 目 | C6: 適 要 | D6: 単位 | E6: 数量 | F6: 単価 | G6: 金額 | H6: 備 考
B7: 直接工事費
B10: 直接仮設工事 | D10: 式 | E10: 1 | F10: =SUM(見積書様式!J15:J35) -> 0 | G10: =INT(E10*F10) -> 0
B11: 建物取りこわし工事 | D11: 式 | E11: 1 | F11: =SUM(見積書様式!J39:J87) -> 0 | G11: =INT(E11*F11) -> 0
B12: 建物付属設備取りこわし工事 | C12: 電気設備、衛生設備ほか | D12: 式 | E12: 1 | F12: =SUM(見積書様式!J91:J92) -> 0 | G12: =INT(E12*F12) -> 0
B13: 構築物取りこわし工事 | C13: 設備を含む | D13: 式 | E13: 1 | F13: =SUM(見積書様式!J96:J110) -> 0 | G13: =INT(E13*F13) -> 0
B14: 石綿含有建材除去工事 | C14: 設備・構築物を含む | D14: 式 | E14: 1 | F14: =SUM(見積書様式!J113:J115) -> 0 | G14: =INT(E14*F14) -> 0
B15: 構築物新設工事 | C15: 移設を含む | D15: 式 | E15: 1 | F15: =SUM(見積書様式!J118:J120) -> 0 | G15: =INT(E15*F15) -> 0
B16: 発生材運搬費 | D16: 式 | E16: 1 | F16: =SUM(見積書様式!J123:J148) -> 0 | G16: =INT(E16*F16) -> 0 | H16: 運搬費のみ
B17: A 直接工事費 計 | G17: =SUM(G10:G16) -> 0
B19: B 共通費
B20: 共通仮設費 | D20: 式 | E20: 1 | F20: =SUM(見積書様式!J153:J169) -> 0 | G20: =INT(E20*F20) -> 0
B21: 現場管理費 | D21: 式 | E21: 1 | F21: =見積書様式!J171 -> 0 | G21: =INT(E21*F21) -> 0
B22: 一般管理費等 | D22: 式 | E22: 1 | F22: =見積書様式!J173 -> 0 | G22: =INT(E22*F22) -> 0
B23: B 共通費計 | G23: =SUM(G20:G22) -> 0
B25: C その他
B26: 素材価格 | C26: スクラップ | D26: 式 | E26: 1 | F26: =見積書様式!J187 -> 0 | G26: =INT(E26*F26) -> 0
B27: 発生材処分費 | D27: 式 | E27: 1 | F27: =見積書様式!J215 -> 0 | G27: =INT(E27*F27) -> 0 | H27: 捨て場料金のみ
B28: C その他計 | G28: =SUM(G26:G27) -> 0
B30: 工事価格 計 | D30: 式 | E30: 1 | G30: =SUM(G23,G17,G28) -> 0 | H30: A＋B＋C
B32: 消費税相当額 | C32: 0.1 | D32: 式 | E32: 1 | G32: =INT(G30*0.1) -> 0
B34: 総工事費 | D34: 式 | E34: 1 | G34: =SUM(G30:G32) -> 0

Sheet 見積書様式
B1: ＊＊＊ 見積明細（例） ＊＊＊
C3: 工事件名： | D3: =見積書表紙!C3 -> 旧東豊中社宅解体工事
B7: 番号 | C7: 名称 | E7: 摘要 | G7: 単位 | H7: 数量 | I7: 単価 | J7: 小計
D8: 作成上の注意
D9: ①工事費見積書は、本様式による。
D10: ②表紙には、作成日、入札参加者の住所・商号又は名称・代表者名を記載する。
D11: ③記載数量は発注図書（参考図を含む）を基に作成してください。
D12: ④すべての集計・計算結果については、確認の上、提出してださい。
C13: ［ 直接工事費 ］
C14: 【直接仮設工事】
C15: 枠組足場（宿舎（１）） | E15: 仕様：建物周囲に設置 | G15: ｍ２ | J15: =INT(H15*I15) -> 0
C16: 安全手摺（宿舎（１）） | E16: 仕様：足場に設置。 | G16: ｍ | J16: =INT(H16*I16) -> 0
C17: 外部防護（宿舎（１）） | E17: 防音パネル | G17: ｍ２ | J17: =INT(H17*I17) -> 0
C18: 架台足場（宿舎（１）） | E18: 内部仕上撤去用 | G18: ｍ２ | J18: =INT(H18*I18) -> 0
C19: 仮設材運搬費（宿舎（１）） | G19: 式 | H19: 1 | J19: =INT(H19*I19) -> 0
C20: 後片付け清掃費（宿舎（１）） | G20: 式 | H20: 1 | J20: =INT(H20*I20) -> 0
C21: その他仮設費（宿舎（１）） | E21: 内容： | G21: 式 | H21: 1 | J21: =INT(H21*I21) -> 0
C22: 枠組足場（宿舎（２）） | E22: 仕様：建物周囲に設置 | G22: ｍ２ | J22: =INT(H22*I22) -> 0
C23: 安全手摺（宿舎（２）） | E23: 仕様：足場に設置。 | G23: ｍ | J23: =INT(H23*I23) -> 0
C24: 外部防護（宿舎（２）） | E24: 防音パネル | G24: ｍ２ | J24: =INT(H24*I24) -> 0
C25: 架台足場（宿舎（２）） | E25: 内部仕上撤去用 | G25: ｍ２ | J25: =INT(H25*I25) -> 0
C26: 仮設材運搬費（宿舎（２）） | G26: 式 | H26: 1 | J26: =INT(H26*I26) -> 0
C27: 後片付け清掃費（宿舎（２）） | G27: 式 | H27: 1 | J27: =INT(H27*I27) -> 0
C28: その他仮設費（宿舎（２）） | E28: 内容： | G28: 式 | H28: 1 | J28: =INT(H28*I28) -> 0
C29: 枠組足場（宿舎（３）） | E29: 仕様：建物周囲に設置 | G29: ｍ２ | J29: =INT(H29*I29) -> 0
C30: 安全手摺（宿舎（３）） | E30: 仕様：足場に設置。 | G30: ｍ | J30: =INT(H30*I30) -> 0
C31: 外部防護（宿舎（３）） | E31: 防音パネル | G31: ｍ２ | J31: =INT(H31*I31) -> 0
C32: 架台足場（宿舎（３）） | E32: 内部仕上撤去用 | G32: ｍ２ | J32: =INT(H32*I32) -> 0
C33: 仮設材運搬費（宿舎（３）） | G33: 式 | H33: 1 | J33: =INT(H33*I33) -> 0
C34: 後片付け清掃費（宿舎（３）） | G34: 式 | H34: 1 | J34: =INT(H34*I34) -> 0
C35: その他仮設費（宿舎（３）） | E35: 内容： | G35: 式 | H35: 1 | J35: =INT(H35*I35) -> 0
C37: 【建物取りこわし工事】
C38: （土工事）
C39: 根切（宿舎（１）） | E39: 仕様：基礎躯体解体時 | G39: ｍ３ | J39: =INT(H39*I39) -> 0
C40: 埋戻（宿舎（１）） | E40: 仕様：基礎躯体解体後 | G40: ｍ３ | J40: =INT(H40*I40) -> 0
C41: 不足土（宿舎（１）） | E41: 真砂土（A種） | G41: ｍ３ | J41: =INT(H41*I41) -> 0
C42: 山留め費（宿舎（１）） | E42: 設置場所 深さ ●ｍ | G42: ｍ３ | J42: =INT(H42*I42) -> 0
C43: 排水費（宿舎（１）） | E43: 仕様：釜場排水程度 ●個所 | G43: 式 | J43: =INT(H43*I43) -> 0
C44: 整地（宿舎（１）） | E44: 仕様：敷地内は除草し、境界周囲は、敷地内から雨水が流れ出ないよう設計図書に記載の通り整地する。 | G44: ｍ２ | J44: =INT(H44*I44) -> 0
C45: 飛散・粉塵・浸食防止剤（宿舎（１）） | E45: 敷地内整地部 | G45: ｍ２ | J45: =INT(H45*I45) -> 0
C46: 機械運搬費（宿舎（１）） | E46: 根切・埋戻用 | G46: 式 | H46: 1 | J46: =INT(H46*I46) -> 0
C47: 根切（宿舎（２）） | E47: 仕様：基礎躯体解体時 | G47: ｍ３ | J47: =INT(H47*I47) -> 0
C48: 埋戻（宿舎（２）） | E48: 仕様：基礎躯体解体後 | G48: ｍ３ | J48: =INT(H48*I48) -> 0
C49: 不足土（宿舎（２）） | E49: 真砂土（A種） | G49: ｍ３ | J49: =INT(H49*I49) -> 0
C50: 山留め費（宿舎（２）） | E50: 設置場所 深さ ●ｍ | G50: ｍ３ | J50: =INT(H50*I50) -> 0
C51: 排水費（宿舎（２）） | E51: 仕様：釜場排水程度 ●個所 | G51: 式 | J51: =INT(H51*I51) -> 0
C52: 整地（宿舎（２）） | E52: 仕様：敷地内は除草し、境界周囲は、敷地内から雨水が流れ出ないよう設計図書に記載の通り整地する。 | G52: ｍ２ | J52: =INT(H52*I52) -> 0
C53: 飛散・粉塵・浸食防止剤（宿舎（２）） | E53: 敷地内整地部 | G53: ｍ２ | J53: =INT(H53*I53) -> 0
C54: 機械運搬費（宿舎（２）） | E54: 根切・埋戻用 | G54: 式 | H54: 1 | J54: =INT(H54*I54) -> 0
C55: 根切（宿舎（３）） | E55: 仕様：基礎躯体解体時 | G55: ｍ３ | J55: =INT(H55*I55) -> 0
C56: 埋戻（宿舎（３）） | E56: 仕様：基礎躯体解体後 | G56: ｍ３ | J56: =INT(H56*I56) -> 0
C57: 不足土（宿舎（３）） | E57: 真砂土（A種） | G57: ｍ３ | J57: =INT(H57*I57) -> 0
C58: 山留め費（宿舎（３）） | E58: 設置場所 深さ ●ｍ | G58: ｍ３ | J58: =INT(H58*I58) -> 0
C59: 排水費（宿舎（３）） | E59: 仕様：釜場排水程度 ●個所 | G59: 式 | J59: =INT(H59*I59) -> 0
C60: 整地（宿舎（３）） | E60: 仕様：敷地内は除草し、境界周囲は、敷地内から雨水が流れ出ないよう設計図書に記載の通り整地する。 | G60: ｍ２ | J60: =INT(H60*I60) -> 0
C61: 飛散・粉塵・浸食防止剤（宿舎（３）） | E61: 敷地内整地部 | G61: ｍ２ | J61: =INT(H61*I61) -> 0
C62: 機械運搬費（宿舎（３）） | E62: 根切・埋戻用 | G62: 式 | H62: 1 | J62: =INT(H62*I62) -> 0
C64: （解体工事）
C65: 建物（宿舎（１））内部造作撤去 | E65: 延べ床面積 | F65: 社員住宅 | G65: ｍ２ | J65: =INT(H65*I65) -> 0
C66: 建物（宿舎（１））地上部 機械こわし | E66: 鉄筋コンクリート造●階建て | F66: 社員住宅 | G66: ｍ２ | J66: =INT(H66*I66) -> 0
C67: 建物（宿舎（１））基礎部 機械こわし | E67: 鉄筋コンクリート造 | F67: 社員住宅 | G67: ｍ２ | J67: =INT(H67*I67) -> 0
C68: 建物（宿舎（２））内部造作撤去 | E68: 延べ床面積 | F68: 社員住宅 | G68: ｍ２ | J68: =INT(H68*I68) -> 0
C69: 建物（宿舎（２））地上部 機械こわし | E69: 鉄筋コンクリート造●階建て | F69: 社員住宅 | G69: ｍ２ | J69: =INT(H69*I69) -> 0
C70: 建物（宿舎（２））基礎部 機械こわし | E70: 鉄筋コンクリート造 | F70: 社員住宅 | G70: ｍ２ | J70: =INT(H70*I70) -> 0
C71: 建物（宿舎（３））内部造作撤去 | E71: 延べ床面積 | F71: 社員住宅 | G71: ｍ２ | J71: =INT(H71*I71) -> 0
C72: 建物（宿舎（３））地上部 機械こわし | E72: 鉄筋コンクリート造●階建て | F72: 社員住宅 | G72: ｍ２ | J72: =INT(H72*I72) -> 0
C73: 建物（宿舎（３））基礎部 機械こわし | E73: 鉄筋コンクリート造 | F73: 社員住宅 | G73: ｍ２ | J73: =INT(H73*I73) -> 0
C74: 建物（自転車置場（宿舎（１））地上部 機械こわし | E74: 軽量鉄骨造平屋建て | F74: 自転車置場 | G74: ｍ２ | J74: =INT(H74*I74) -> 0
C75: 建物（自転車置場（宿舎（１））基礎部 機械こわし | E75: 鉄筋コンクリート造 | F75: 自転車置場 | G75: ｍ２ | J75: =INT(H75*I75) -> 0
C76: 建物（自転車置場（宿舎（２））地上部 機械こわし | E76: 軽量鉄骨造平屋建て | F76: 自転車置場 | G76: ｍ２ | J76: =INT(H76*I76) -> 0
... C85: 建物（物置（宿舎（３））基礎部 機械こわし | E85: 鉄筋コンクリート造 | F85: 物置 | G85: ｍ２ | J85: =INT(H85*I85) -> 0
C86: その他取りこわし | E86: 仕様： | G86: 式 | H86: 1 | J86: =INT(H86*I86) -> 0
C87: 機械運搬費 | E87: 取りこわし用機材 | G87: 式 | H87: 1 | J87: =INT(H87*I87) -> 0
C89: 【建物付属設備取りこわし工事】
C90: （設備こわし工事）
C91: 電気設備こわし | E91: 撤去概要：全て | G91: 式 | H91: 1 | J91: =INT(H91*I91) -> 0
C92: 設備こわし | E92: 撤去概要：量水器・下水最終桝とこれらから道路内本管までの配管を除いた全て | G92: 式 | H92: 1 | J92: =INT(H92*I92) -> 0
C94: 【構築物取りこわし工事】
C95: （外構こわし工事）補修復旧共
C96: 舗装こわし | E96: 仕様：鉄筋コンクリート敷 | G96: ｍ２ | J96: =INT(H96*I96) -> 0
C97: 整地こわし | E97: 仕様：除草、切株抜根●●箇所 | G97: ｍ２ | J97: =INT(H97*I97) -> 0
C98: 囲障(1)こわし | E98: 仕様：鉄筋コンクリート製 | G98: ｍ | J98: =INT(H98*I98) -> 0
C99: 囲障(2)こわし | E99: 仕様：鋼製 | G99: ｍ | J99: =INT(H99*I99) -> 0
C100: 土止めこわし | E100: 仕様：鉄筋コンクリート造 | G100: ｍ | J100: =INT(H100*I100) -> 0
C101: 土止め一部存置 | E101: 仕様：切断部は防錆処理、モルタル補修 | G101: ｍ | J101: =INT(H101*I101) -> 0
C102: 下水管・桝 こわし | E102: 仕様：コンクリート製、ビニール製 | G102: 式 | H102: 1 | J102: =INT(H102*I102) -> 0
C103: 側溝グレーチング蓋 撤去 | E103: 仕様：鋼製 | G103: ｍ | J103: =INT(H103*I103) -> 0
C104: 既設仮囲障 撤去 | E104: 仕様：鋼製 | G104: ｍ | J104: =INT(H104*I104) -> 0
C105: 管理用看板 撤去 | E105: 仕様： | G105: 式 | H105: 1 | J105: =INT(H105*I105) -> 0
C106: その他こわし | E106: 仕様： | G106: 式 | H106: 1 | J106: =INT(H106*I106) -> 0
C108: （その他工事）
C109: 埋設物調査 | E109: 仕様：外構部を対象に地中障害物の確認。報告書作成費含む。 | G109: 式 | H109: 1 | J109: =INT(H109*I109) -> 0
C110: 各種調査報告 | E110: 現地調査報告費、境界周辺調査報告費、境界標養生費、存置工作物安全点検費 | G110: 式 | H110: 1 | J110: =INT(H110*I110) -> 0
C112: 【石綿含有建材除去工事】
C113: 石綿含有建材こわし | E113: ｾﾒﾝﾄ系下地層 石綿粉じん濃度測定共 | G113: ｍ２ | J113: =INT(H113*I113) -> 0
C114: 石綿含有建材こわし | E114: 仕上材(非飛散性石綿） | G114: ｍ２ | J114: =INT(H114*I114) -> 0
C115: その他石綿含有建材こわし | G115: 式 | H115: 1 | J115: =INT(H115*I115) -> 0
C117: 【構築物新設工事】
C118: 管理用仮囲障取設 | E118: 仕様：高さ1.8m（鋼製） | G118: ｍ | J118: =INT(H118*I118) -> 0
C119: 管理用仮門取設 | E119: 仕様：キャスターゲート、ダイヤル錠付 | G119: 箇所 | J119: =INT(H119*I119) -> 0
...
